BEGIN:VCALENDAR
VERSION:2.0
PRODID:-//hacksw/handcal//NONSGML v1.0//EN
CALSCALE:GREGORIAN
BEGIN:VEVENT
LOCATION:Dennis C. Moss Cultural Arts Center\, Miami-Dade\, 10950 SW 211th St.\, Cutler Bay
DESCRIPTION:https://miamionthecheap.com/event/free-all-kids-included-family-fest/
DTSTART;TZID=America/New_York:20260502T100000
DTEND;TZID=America/New_York:20260502T150000
SUMMARY:Free All Kids Included Family Festival
URL;VALUE=URI:https://miamionthecheap.com/event/free-all-kids-included-family-fest/
DTSTAMP:20260422T164533
UID:69e9336d19750
END:VEVENT
END:VCALENDAR