BEGIN:VCALENDAR
VERSION:2.0
PRODID:-//hacksw/handcal//NONSGML v1.0//EN
CALSCALE:GREGORIAN
BEGIN:VEVENT
LOCATION:Lakeshore Park\, 8501 S. Sherman Circle\, Miramar \, FL
DESCRIPTION:https://miamionthecheap.com/event/play-it-safe-palooza-offers-activities-for-kids/
DTSTART;TZID=America/New_York:20260530T150000
DTEND;TZID=America/New_York:20260530T190000
SUMMARY:Play It Safe Palooza in Miramar
URL;VALUE=URI:https://miamionthecheap.com/event/play-it-safe-palooza-offers-activities-for-kids/
DTSTAMP:20260424T133609
UID:69ebaa0990544
END:VEVENT
END:VCALENDAR