BEGIN:VCALENDAR
VERSION:2.0
PRODID:-//hacksw/handcal//NONSGML v1.0//EN
CALSCALE:GREGORIAN
BEGIN:VEVENT
LOCATION:Mobil - Miami Gardens
DESCRIPTION:https://miamionthecheap.com/event/free-mobil-miami-grand-prix-series-kick-off-event-in-miami-gardens-2/
DTSTART;TZID=America/New_York:20260430T150000
DTEND;TZID=America/New_York:20260430T190000
SUMMARY:Free Mobil Miami Grand Prix Series Kick-off Event
URL;VALUE=URI:https://miamionthecheap.com/event/free-mobil-miami-grand-prix-series-kick-off-event-in-miami-gardens-2/
DTSTAMP:20260423T154048
UID:69ea75c0bc17e
END:VEVENT
END:VCALENDAR