BEGIN:VCALENDAR
VERSION:2.0
PRODID:-//hacksw/handcal//NONSGML v1.0//EN
CALSCALE:GREGORIAN
BEGIN:VEVENT
LOCATION:Mobil - Miami Gardens
DESCRIPTION:https://miamionthecheap.com/event/free-mobil-miami-grand-prix-series-kick-off-event-in-miami-gardens/
DTSTART;TZID=America/New_York:20260429T130000
DTEND;TZID=America/New_York:20260429T170000
SUMMARY:Free Mobil Miami Grand Prix Series Kick-off Event
URL;VALUE=URI:https://miamionthecheap.com/event/free-mobil-miami-grand-prix-series-kick-off-event-in-miami-gardens/
DTSTAMP:20260423T153953
UID:69ea75896cc86
END:VEVENT
END:VCALENDAR