BEGIN:VCALENDAR
VERSION:2.0
PRODID:-//hacksw/handcal//NONSGML v1.0//EN
CALSCALE:GREGORIAN
BEGIN:VEVENT
LOCATION:Ali Cultural Arts\, 353 Dr. Martin Luther King Jr. Blvd\, Pompano Beach\, FL
DESCRIPTION:https://miamionthecheap.com/event/free-our-voice-festival-of-words-in-pompano-beach-2/
DTSTART;TZID=America/New_York:20260425T110000
DTEND;TZID=America/New_York:20260425T170000
SUMMARY:Our Voices: Festival of Words
URL;VALUE=URI:https://miamionthecheap.com/event/free-our-voice-festival-of-words-in-pompano-beach-2/
DTSTAMP:20260423T085654
UID:69ea1716db812
END:VEVENT
END:VCALENDAR