BEGIN:VCALENDAR
VERSION:2.0
PRODID:-//hacksw/handcal//NONSGML v1.0//EN
CALSCALE:GREGORIAN
BEGIN:VEVENT
LOCATION:Broward Main Library\, 100 S Andrews Ave\, Fort Lauderdale\, FL
DESCRIPTION:https://miamionthecheap.com/event/free-our-voice-festival-of-words-in-pompano-beach/
DTSTART;TZID=America/New_York:20260424T190000
DTEND;TZID=America/New_York:20260424T210000
SUMMARY:Evening with aja monet
URL;VALUE=URI:https://miamionthecheap.com/event/free-our-voice-festival-of-words-in-pompano-beach/
DTSTAMP:20260423T085613
UID:69ea16ed5d5fb
END:VEVENT
END:VCALENDAR