BEGIN:VCALENDAR
VERSION:2.0
PRODID:-//hacksw/handcal//NONSGML v1.0//EN
CALSCALE:GREGORIAN
BEGIN:VEVENT
LOCATION:North Lauderdale city hall
DESCRIPTION:https://miamionthecheap.com/event/north-lauderdale-offers-event-with-food-trucks-reaxtion-band/
DTSTART;TZID=America/New_York:20260424T180000
DTEND;TZID=America/New_York:20260424T210000
SUMMARY:Food trucks & Reaxtion Band in North Lauderdale
URL;VALUE=URI:https://miamionthecheap.com/event/north-lauderdale-offers-event-with-food-trucks-reaxtion-band/
DTSTAMP:20260421T220028
UID:69e82bbca8eff
END:VEVENT
END:VCALENDAR