BEGIN:VCALENDAR
VERSION:2.0
PRODID:-//hacksw/handcal//NONSGML v1.0//EN
CALSCALE:GREGORIAN
BEGIN:VEVENT
LOCATION:Lakeshore Park\, 8501 S. Sherman Circle\, Miramar \, FL
DESCRIPTION:https://miamionthecheap.com/event/free-food-distribution-in-south-florida-9/
DTSTART;TZID=America/New_York:20260425T090000
DTEND;TZID=America/New_York:20260425T120000
SUMMARY:Food Distribution & Resourse Expo in Miramar
URL;VALUE=URI:https://miamionthecheap.com/event/free-food-distribution-in-south-florida-9/
DTSTAMP:20260423T083952
UID:69ea13186feff
END:VEVENT
END:VCALENDAR