BEGIN:VCALENDAR
VERSION:2.0
PRODID:-//hacksw/handcal//NONSGML v1.0//EN
CALSCALE:GREGORIAN
BEGIN:VEVENT
LOCATION:Hollywood beach bandshell\, 320 Johnson Street\, Hollywood \, FL
DESCRIPTION:https://miamionthecheap.com/event/earth-day-festivals-events-deals-41/
DTSTART;TZID=America/New_York:20260425T090000
DTEND;TZID=America/New_York:20260425T130000
SUMMARY:Earth Day event in Hollywood
URL;VALUE=URI:https://miamionthecheap.com/event/earth-day-festivals-events-deals-41/
DTSTAMP:20260422T085719
UID:69e8c5af3851e
END:VEVENT
END:VCALENDAR