BEGIN:VCALENDAR
VERSION:2.0
PRODID:-//hacksw/handcal//NONSGML v1.0//EN
CALSCALE:GREGORIAN
BEGIN:VEVENT
LOCATION:Armbrister Park\, 4000 Grand Ave.\, Miami\, FL
DESCRIPTION:https://miamionthecheap.com/event/free-jazzin-in-the-grove-spring-swing-concert/
DTSTART;TZID=America/New_York:20260425T163000
DTEND;TZID=America/New_York:20260425T210000
SUMMARY:Free Jazzin' in the Grove Spring Swing Concert
URL;VALUE=URI:https://miamionthecheap.com/event/free-jazzin-in-the-grove-spring-swing-concert/
DTSTAMP:20260420T182109
UID:69e6a6d54a77e
END:VEVENT
END:VCALENDAR