BEGIN:VCALENDAR
VERSION:2.0
PRODID:-//hacksw/handcal//NONSGML v1.0//EN
CALSCALE:GREGORIAN
BEGIN:VEVENT
LOCATION:YoungArts\, 2100 Biscayne Blvd.\, Miami\, FL
DESCRIPTION:https://miamionthecheap.com/event/free-rhythms-of-the-city-collaborative-performance-at-youngarts-campus/
DTSTART;TZID=America/New_York:20260425T200000
DTEND;TZID=America/New_York:20260425T235900
SUMMARY:Free Rhythms of the City at YoungArts Campus
URL;VALUE=URI:https://miamionthecheap.com/event/free-rhythms-of-the-city-collaborative-performance-at-youngarts-campus/
DTSTAMP:20260420T155437
UID:69e6847d05126
END:VEVENT
END:VCALENDAR