BEGIN:VCALENDAR
VERSION:2.0
PRODID:-//hacksw/handcal//NONSGML v1.0//EN
CALSCALE:GREGORIAN
BEGIN:VEVENT
LOCATION:Town Center at Boca\, 6000 Glades Road \, Boca Raton\, FL
DESCRIPTION:https://miamionthecheap.com/event/cinco-de-mayo-in-palm-beach-3/
DTSTART;TZID=America/New_York:20260505T000000
DTEND;TZID=America/New_York:20260505T000000
SUMMARY:Cinco de Mayo at El Camino\, Boca Raton\, Delray Beach
URL;VALUE=URI:https://miamionthecheap.com/event/cinco-de-mayo-in-palm-beach-3/
DTSTAMP:20260421T083721
UID:69e76f81ed888
END:VEVENT
END:VCALENDAR