BEGIN:VCALENDAR
VERSION:2.0
PRODID:-//hacksw/handcal//NONSGML v1.0//EN
CALSCALE:GREGORIAN
BEGIN:VEVENT
LOCATION:The Patch garden
DESCRIPTION:https://miamionthecheap.com/event/earth-day-festivals-events-deals-40/
DTSTART;TZID=America/New_York:20260425T093000
DTEND;TZID=America/New_York:20260425T120000
SUMMARY:Earth Day workshop at The Patch in Dania Beach
URL;VALUE=URI:https://miamionthecheap.com/event/earth-day-festivals-events-deals-40/
DTSTAMP:20260422T085719
UID:69e8c5afba3c5
END:VEVENT
END:VCALENDAR