BEGIN:VCALENDAR
VERSION:2.0
PRODID:-//hacksw/handcal//NONSGML v1.0//EN
CALSCALE:GREGORIAN
BEGIN:VEVENT
LOCATION:Sunshine Cathedral\, 1480 SW 9th Ave\, Fort Lauderdale\, FL
DESCRIPTION:https://miamionthecheap.com/event/broward-womens-chorus-concert-4/
DTSTART;TZID=America/New_York:20260426T190000
DTEND;TZID=America/New_York:20260426T203000
SUMMARY:Broward Women's Chorus Concert: Imagine
URL;VALUE=URI:https://miamionthecheap.com/event/broward-womens-chorus-concert-4/
DTSTAMP:20260422T133644
UID:69e9072cef628
END:VEVENT
END:VCALENDAR