BEGIN:VCALENDAR
VERSION:2.0
PRODID:-//hacksw/handcal//NONSGML v1.0//EN
CALSCALE:GREGORIAN
BEGIN:VEVENT
LOCATION:Barnacle Historic State Park\, 3485 Main Highway\, Miami\, FL
DESCRIPTION:https://miamionthecheap.com/event/moonlight-concert-series-barnacle-3/
DTSTART;TZID=America/New_York:20260508T190000
DTEND;TZID=America/New_York:20260508T193000
SUMMARY:Moonlight concert at The Barnacle with Will Thomas' Yacht Rock Sing-Along
URL;VALUE=URI:https://miamionthecheap.com/event/moonlight-concert-series-barnacle-3/
DTSTAMP:20260421T072912
UID:69e75f8861624
END:VEVENT
END:VCALENDAR