BEGIN:VCALENDAR
VERSION:2.0
PRODID:-//hacksw/handcal//NONSGML v1.0//EN
CALSCALE:GREGORIAN
BEGIN:VEVENT
LOCATION:Pompano Beach Community Park\, 1700 NE Eighth Street  \, Pompano Beach\, FL
DESCRIPTION:https://miamionthecheap.com/event/touch-a-truck-in-pompano/
DTSTART;TZID=America/New_York:20260502T100000
DTEND;TZID=America/New_York:20260502T140000
SUMMARY:Touch a Truck in Pompano Beach
URL;VALUE=URI:https://miamionthecheap.com/event/touch-a-truck-in-pompano/
DTSTAMP:20260422T100416
UID:69e8d5605f70c
END:VEVENT
END:VCALENDAR