BEGIN:VCALENDAR
VERSION:2.0
PRODID:-//hacksw/handcal//NONSGML v1.0//EN
CALSCALE:GREGORIAN
BEGIN:VEVENT
LOCATION:New World Center\, Miami Beach\, 500 17th Street\, Miami Beach\, FL
DESCRIPTION:https://miamionthecheap.com/event/new-world-symphony-discount-10/
DTSTART;TZID=America/New_York:20260428T190000
DTEND;TZID=America/New_York:20260428T210000
SUMMARY:Pay What You Wish concert\, New World Symphony Fellows
URL;VALUE=URI:https://miamionthecheap.com/event/new-world-symphony-discount-10/
DTSTAMP:20260421T173139
UID:69e7ecbb1682b
END:VEVENT
END:VCALENDAR