BEGIN:VCALENDAR
VERSION:2.0
PRODID:-//hacksw/handcal//NONSGML v1.0//EN
CALSCALE:GREGORIAN
BEGIN:VEVENT
LOCATION:Stirling Road Branch Library\, 3151 Stirling Rd\, Hollywood\, FL
DESCRIPTION:https://miamionthecheap.com/event/music-club-of-hollywood-free-concerts-11/
DTSTART;TZID=America/New_York:20260426T150000
DTEND;TZID=America/New_York:20260426T163000
SUMMARY:Grant Livingston\, folk musician
URL;VALUE=URI:https://miamionthecheap.com/event/music-club-of-hollywood-free-concerts-11/
DTSTAMP:20260425T222021
UID:69ed7665316be
END:VEVENT
END:VCALENDAR