BEGIN:VCALENDAR
VERSION:2.0
PRODID:-//hacksw/handcal//NONSGML v1.0//EN
CALSCALE:GREGORIAN
BEGIN:VEVENT
LOCATION:Busch Wildlife Sanctuary\, Jupiter\, 2500 Jupiter Park Drive\, Jupiter\, FL
DESCRIPTION:https://miamionthecheap.com/event/party-with-the-animals-at-busch-wildlife-sanctuary-in-jupiter/
DTSTART;TZID=America/New_York:20260426T090000
DTEND;TZID=America/New_York:20260426T140000
SUMMARY:Homegrown & Handmade Fest at Busch Wildlife in Jupiter
URL;VALUE=URI:https://miamionthecheap.com/event/party-with-the-animals-at-busch-wildlife-sanctuary-in-jupiter/
DTSTAMP:20260424T144659
UID:69ebbaa3e8ea4
END:VEVENT
END:VCALENDAR