BEGIN:VCALENDAR
VERSION:2.0
PRODID:-//hacksw/handcal//NONSGML v1.0//EN
CALSCALE:GREGORIAN
BEGIN:VEVENT
LOCATION:Plantation Aquatics\, 9151 NW Second St.\, Plantation \, FL
DESCRIPTION:https://miamionthecheap.com/event/water-safety-day-park-events-plantation/
DTSTART;TZID=America/New_York:20260502T100000
DTEND;TZID=America/New_York:20260502T140000
SUMMARY:Water Safety Day in Plantation
URL;VALUE=URI:https://miamionthecheap.com/event/water-safety-day-park-events-plantation/
DTSTAMP:20260422T232413
UID:69e990dd4a2e8
END:VEVENT
END:VCALENDAR