BEGIN:VCALENDAR
VERSION:2.0
PRODID:-//hacksw/handcal//NONSGML v1.0//EN
CALSCALE:GREGORIAN
BEGIN:VEVENT
LOCATION:Wellington Amphitheater\, 12100 Forest Hill Blvd.\, Wellington \, FL
DESCRIPTION:https://miamionthecheap.com/event/free-concerts-memorial-day-weekend-celebrations-in-wellington/
DTSTART;TZID=America/New_York:20260521T170000
DTEND;TZID=America/New_York:20260524T220000
SUMMARY:Free concerts for Memorial Day all weekend\,  Wellington
URL;VALUE=URI:https://miamionthecheap.com/event/free-concerts-memorial-day-weekend-celebrations-in-wellington/
DTSTAMP:20260421T225331
UID:69e8382ba7c2f
END:VEVENT
END:VCALENDAR