BEGIN:VCALENDAR
VERSION:2.0
PRODID:-//hacksw/handcal//NONSGML v1.0//EN
CALSCALE:GREGORIAN
BEGIN:VEVENT
LOCATION:Old School Square\, Delray\, 51 N. Swinton Ave. \, Delray Beach \, FL
DESCRIPTION:https://miamionthecheap.com/event/cinco-de-mayo-in-palm-beach-2/
DTSTART;TZID=America/New_York:20260505T000000
DTEND;TZID=America/New_York:20260505T000000
SUMMARY:Cinco de Mayo at El Camino\, Delray Beach
URL;VALUE=URI:https://miamionthecheap.com/event/cinco-de-mayo-in-palm-beach-2/
DTSTAMP:20260421T084401
UID:69e77111a7e68
END:VEVENT
END:VCALENDAR