BEGIN:VCALENDAR
VERSION:2.0
PRODID:-//hacksw/handcal//NONSGML v1.0//EN
CALSCALE:GREGORIAN
BEGIN:VEVENT
LOCATION:Dania Pointe\, 139 S. Compass Way\, Dania Beach \, FL
DESCRIPTION:https://miamionthecheap.com/event/free-entertainment-fun-at-dania-pointe-dania-beachplaza-12/
DTSTART;TZID=America/New_York:20260509T170000
DTEND;TZID=America/New_York:20260509T220000
SUMMARY:Mompreneur vendors market at Dania Point
URL;VALUE=URI:https://miamionthecheap.com/event/free-entertainment-fun-at-dania-pointe-dania-beachplaza-12/
DTSTAMP:20260421T043009
UID:69e735911e31c
END:VEVENT
END:VCALENDAR