BEGIN:VCALENDAR
VERSION:2.0
PRODID:-//hacksw/handcal//NONSGML v1.0//EN
CALSCALE:GREGORIAN
BEGIN:VEVENT
LOCATION:Dania Pointe\, 139 S. Compass Way\, Dania Beach \, FL
DESCRIPTION:https://miamionthecheap.com/event/free-entertainment-fun-at-dania-pointe-dania-beachplaza-11/
DTSTART;TZID=America/New_York:20260508T170000
DTEND;TZID=America/New_York:20260508T220000
SUMMARY:Mompreneur vendors market at Dania Pointe
URL;VALUE=URI:https://miamionthecheap.com/event/free-entertainment-fun-at-dania-pointe-dania-beachplaza-11/
DTSTAMP:20260421T043018
UID:69e7359a3019b
END:VEVENT
END:VCALENDAR