BEGIN:VCALENDAR
VERSION:2.0
PRODID:-//hacksw/handcal//NONSGML v1.0//EN
CALSCALE:GREGORIAN
BEGIN:VEVENT
LOCATION:Carter Park\, 1450 W. Sunrise Blvd.\, Fort Lauderdale \, FL
DESCRIPTION:https://miamionthecheap.com/event/carter-park-jamz-free-concerts-fort-lauderdale-3/
DTSTART;TZID=America/New_York:20261016T190000
DTEND;TZID=America/New_York:20261016T220000
SUMMARY:Jamz featuring band at park in Fort Lauderdale
URL;VALUE=URI:https://miamionthecheap.com/event/carter-park-jamz-free-concerts-fort-lauderdale-3/
DTSTAMP:20260425T143250
UID:69ed08d25f839
END:VEVENT
END:VCALENDAR