BEGIN:VCALENDAR
VERSION:2.0
PRODID:-//hacksw/handcal//NONSGML v1.0//EN
CALSCALE:GREGORIAN
BEGIN:VEVENT
LOCATION:
DESCRIPTION:https://miamionthecheap.com/event/pembroke-pines-offers-anniversary-event-with-rides-drone-show/
DTSTART;TZID=America/New_York:20260425T170000
DTEND;TZID=America/New_York:20260425T210000
SUMMARY:Birthday festivies in Pembroke Pines with roller rink\, entertainment & rides drone show
URL;VALUE=URI:https://miamionthecheap.com/event/pembroke-pines-offers-anniversary-event-with-rides-drone-show/
DTSTAMP:20260423T032844
UID:69e9ca2c48b08
END:VEVENT
END:VCALENDAR