BEGIN:VCALENDAR
VERSION:2.0
PRODID:-//hacksw/handcal//NONSGML v1.0//EN
CALSCALE:GREGORIAN
BEGIN:VEVENT
LOCATION:Liberty Plaza\, Miami Beach\, 2200 Liberty Ave.\, Miami Beach\, FL
DESCRIPTION:https://miamionthecheap.com/event/free-liberty-plaza-jazz-series-on-miami-beach-4/
DTSTART;TZID=America/New_York:20260516T170000
DTEND;TZID=America/New_York:20260516T190000
SUMMARY:Jazz with Jean P. Sam At Liberty Plaza\, Miami Beach
URL;VALUE=URI:https://miamionthecheap.com/event/free-liberty-plaza-jazz-series-on-miami-beach-4/
DTSTAMP:20260422T102027
UID:69e8d92bc5529
END:VEVENT
END:VCALENDAR