BEGIN:VCALENDAR
VERSION:2.0
PRODID:-//hacksw/handcal//NONSGML v1.0//EN
CALSCALE:GREGORIAN
BEGIN:VEVENT
LOCATION:Bailey Hall in Davie\, 3501 Davie Road \, Davie \, FL
DESCRIPTION:https://miamionthecheap.com/event/free-concerts-film-dance-bailey-hall-davie-24/
DTSTART;TZID=America/New_York:20260425T193000
DTEND;TZID=America/New_York:20260425T210000
SUMMARY:Broward Symphony Orchestra in Davie
URL;VALUE=URI:https://miamionthecheap.com/event/free-concerts-film-dance-bailey-hall-davie-24/
DTSTAMP:20260422T181258
UID:69e947eab442c
END:VEVENT
END:VCALENDAR