BEGIN:VCALENDAR
VERSION:2.0
PRODID:-//hacksw/handcal//NONSGML v1.0//EN
CALSCALE:GREGORIAN
BEGIN:VEVENT
LOCATION:Kolb Nature Center\, 751 Sheridan Street\, Hollywood \, FL
DESCRIPTION:https://miamionthecheap.com/event/music-club-of-hollywood-free-concerts-7/
DTSTART;TZID=America/New_York:20260510T140000
DTEND;TZID=America/New_York:20260510T153000
SUMMARY:Free Mother's Day Concert
URL;VALUE=URI:https://miamionthecheap.com/event/music-club-of-hollywood-free-concerts-7/
DTSTAMP:20260425T222014
UID:69ed765e17a60
END:VEVENT
END:VCALENDAR