BEGIN:VCALENDAR
VERSION:2.0
PRODID:-//hacksw/handcal//NONSGML v1.0//EN
CALSCALE:GREGORIAN
BEGIN:VEVENT
LOCATION:Spady Cultural Heritage Museum\, Delray Beach\, 170 NW 5th Ave.\, Delray Beach\, FL
DESCRIPTION:https://miamionthecheap.com/event/free-family-affair-delray-beach/
DTSTART;TZID=America/New_York:20260516T080000
DTEND;TZID=America/New_York:20260516T160000
SUMMARY:Family Affair\, Spady Museum\, Delray
URL;VALUE=URI:https://miamionthecheap.com/event/free-family-affair-delray-beach/
DTSTAMP:20260424T041428
UID:69eb26642a5b0
END:VEVENT
END:VCALENDAR