BEGIN:VCALENDAR
VERSION:2.0
PRODID:-//hacksw/handcal//NONSGML v1.0//EN
CALSCALE:GREGORIAN
BEGIN:VEVENT
LOCATION:Bergeron Rodeo\, 4271 Davie Road\, Davie \, FL
DESCRIPTION:https://miamionthecheap.com/event/free-touch-a-truck-event-in-davie/
DTSTART;TZID=America/New_York:20260502T090000
DTEND;TZID=America/New_York:20260502T120000
SUMMARY:Touch A Truck in Davie
URL;VALUE=URI:https://miamionthecheap.com/event/free-touch-a-truck-event-in-davie/
DTSTAMP:20260424T040709
UID:69eb24ad42274
END:VEVENT
END:VCALENDAR