BEGIN:VCALENDAR
VERSION:2.0
PRODID:-//hacksw/handcal//NONSGML v1.0//EN
CALSCALE:GREGORIAN
BEGIN:VEVENT
LOCATION:Meyer Amphitheatre\, West Palm Beach\, 104 Datura St.\, West Palm Beach\, FL
DESCRIPTION:https://miamionthecheap.com/event/five-six-one-music-festival/
DTSTART;TZID=America/New_York:20260502T120000
DTEND;TZID=America/New_York:20260502T220000
SUMMARY:561 Music Festival\, West Palm Beach
URL;VALUE=URI:https://miamionthecheap.com/event/five-six-one-music-festival/
DTSTAMP:20260420T143550
UID:69e672062c6a7
END:VEVENT
END:VCALENDAR