BEGIN:VCALENDAR
VERSION:2.0
PRODID:-//hacksw/handcal//NONSGML v1.0//EN
CALSCALE:GREGORIAN
BEGIN:VEVENT
LOCATION:Bailey Hall in Davie\, 3501 Davie Road \, Davie \, FL
DESCRIPTION:https://miamionthecheap.com/event/free-concerts-film-dance-bailey-hall-davie-7/
DTSTART;TZID=America/New_York:20260428T180000
DTEND;TZID=America/New_York:20260428T210000
SUMMARY:Student film showcase in Davie
URL;VALUE=URI:https://miamionthecheap.com/event/free-concerts-film-dance-bailey-hall-davie-7/
DTSTAMP:20260422T181220
UID:69e947c426919
END:VEVENT
END:VCALENDAR