BEGIN:VCALENDAR
VERSION:2.0
PRODID:-//hacksw/handcal//NONSGML v1.0//EN
CALSCALE:GREGORIAN
BEGIN:VEVENT
LOCATION:Bailey Hall in Davie\, 3501 Davie Road \, Davie \, FL
DESCRIPTION:https://miamionthecheap.com/event/free-concerts-film-dance-bailey-hall-davie-6/
DTSTART;TZID=America/New_York:20260426T140000
DTEND;TZID=America/New_York:20260426T150000
SUMMARY:Broward Symphonic Band in Davie
URL;VALUE=URI:https://miamionthecheap.com/event/free-concerts-film-dance-bailey-hall-davie-6/
DTSTAMP:20260422T181119
UID:69e9478783e4e
END:VEVENT
END:VCALENDAR