BEGIN:VCALENDAR
VERSION:2.0
PRODID:-//hacksw/handcal//NONSGML v1.0//EN
CALSCALE:GREGORIAN
BEGIN:VEVENT
LOCATION:Bailey Hall in Davie\, 3501 Davie Road \, Davie \, FL
DESCRIPTION:https://miamionthecheap.com/event/free-concerts-film-dance-bailey-hall-davie-5/
DTSTART;TZID=America/New_York:20260422T193000
DTEND;TZID=America/New_York:20260422T220000
SUMMARY:Jazz performance in Davie
URL;VALUE=URI:https://miamionthecheap.com/event/free-concerts-film-dance-bailey-hall-davie-5/
DTSTAMP:20260422T181229
UID:69e947cd47ee3
END:VEVENT
END:VCALENDAR