BEGIN:VCALENDAR
VERSION:2.0
PRODID:-//hacksw/handcal//NONSGML v1.0//EN
CALSCALE:GREGORIAN
BEGIN:VEVENT
LOCATION:Wellington Amphitheater\, 12100 Forest Hill Blvd.\, Wellington \, FL
DESCRIPTION:https://miamionthecheap.com/event/free-celebration-in-wellington/
DTSTART;TZID=America/New_York:20260507T170000
DTEND;TZID=America/New_York:20260507T210000
SUMMARY:Asian American & Pacific Islander Night\, Wellington
URL;VALUE=URI:https://miamionthecheap.com/event/free-celebration-in-wellington/
DTSTAMP:20260422T000615
UID:69e8493731bea
END:VEVENT
END:VCALENDAR