BEGIN:VCALENDAR
VERSION:2.0
PRODID:-//hacksw/handcal//NONSGML v1.0//EN
CALSCALE:GREGORIAN
BEGIN:VEVENT
LOCATION:CityPlace West Palm Beach\, 700 S. Rosemary Ave.\, West Palm Beach\, FL
DESCRIPTION:https://miamionthecheap.com/event/cinco-de-mayo-in-palm-beach/
DTSTART;TZID=America/New_York:20260505T000000
DTEND;TZID=America/New_York:20260505T000000
SUMMARY:Cinco de Mayo at El Camino\, West Palm Beach
URL;VALUE=URI:https://miamionthecheap.com/event/cinco-de-mayo-in-palm-beach/
DTSTAMP:20260421T084314
UID:69e770e2b13b2
END:VEVENT
END:VCALENDAR