BEGIN:VCALENDAR
VERSION:2.0
PRODID:-//hacksw/handcal//NONSGML v1.0//EN
CALSCALE:GREGORIAN
BEGIN:VEVENT
LOCATION:Tropical Park\, South Miami\, 7940 SW 40th St.\, Miami\, FL
DESCRIPTION:https://miamionthecheap.com/event/free-miami-international-agriculture-horse-cattle-show/
DTSTART;TZID=America/New_York:20260425T090000
DTEND;TZID=America/New_York:20260425T190000
SUMMARY:Miami-Dade CountryFest
URL;VALUE=URI:https://miamionthecheap.com/event/free-miami-international-agriculture-horse-cattle-show/
DTSTAMP:20260419T092228
UID:69e4d714bed4d
END:VEVENT
END:VCALENDAR