BEGIN:VCALENDAR
VERSION:2.0
PRODID:-//hacksw/handcal//NONSGML v1.0//EN
CALSCALE:GREGORIAN
BEGIN:VEVENT
LOCATION:Esplanade Park\, 400 SW Second St. \, Fort Lauderdale \, FL
DESCRIPTION:https://miamionthecheap.com/event/free-entry-for-riverwalk-smoke-on-the-water-bbq-event/
DTSTART;TZID=America/New_York:20260516T120000
DTEND;TZID=America/New_York:20260516T160000
SUMMARY:Smoke on The Water BBQ festival in Fort Lauderdale
URL;VALUE=URI:https://miamionthecheap.com/event/free-entry-for-riverwalk-smoke-on-the-water-bbq-event/
DTSTAMP:20260425T101613
UID:69ecccad25959
END:VEVENT
END:VCALENDAR