BEGIN:VCALENDAR
VERSION:2.0
PRODID:-//hacksw/handcal//NONSGML v1.0//EN
CALSCALE:GREGORIAN
BEGIN:VEVENT
LOCATION:Little Haiti Cultural Center\, 212 NE 59th Terrace\,  Miami\, CA
DESCRIPTION:https://miamionthecheap.com/event/little-haiti-book-festival/
DTSTART;TZID=America/New_York:20260503T110000
DTEND;TZID=America/New_York:20260503T170000
SUMMARY:Little Haiti Book Festival free events
URL;VALUE=URI:https://miamionthecheap.com/event/little-haiti-book-festival/
DTSTAMP:20260423T045635
UID:69e9dec37bb73
END:VEVENT
END:VCALENDAR