BEGIN:VCALENDAR
VERSION:2.0
PRODID:-//hacksw/handcal//NONSGML v1.0//EN
CALSCALE:GREGORIAN
BEGIN:VEVENT
LOCATION:Las Olas Oceanside Park\, 3000 E. Las Olas Boulevard \, Fort Lauderdale \, FL
DESCRIPTION:https://miamionthecheap.com/event/free-entry-for-beach-party-in-fort-lauderdale/
DTSTART;TZID=America/New_York:20260523T120000
DTEND;TZID=America/New_York:20260523T180000
SUMMARY:Great American Beach Party in Fort Lauderdale
URL;VALUE=URI:https://miamionthecheap.com/event/free-entry-for-beach-party-in-fort-lauderdale/
DTSTAMP:20260423T102637
UID:69ea2c1d57a31
END:VEVENT
END:VCALENDAR